BEGIN:VCALENDAR
VERSION:2.0
PRODID:-//Great Lakes Commission - ECPv6.15.20//NONSGML v1.0//EN
CALSCALE:GREGORIAN
METHOD:PUBLISH
X-ORIGINAL-URL:https://www.glc.org
X-WR-CALDESC:Events for Great Lakes Commission
REFRESH-INTERVAL;VALUE=DURATION:PT1H
X-Robots-Tag:noindex
X-PUBLISHED-TTL:PT1H
BEGIN:VTIMEZONE
TZID:America/Detroit
BEGIN:DAYLIGHT
TZOFFSETFROM:-0500
TZOFFSETTO:-0400
TZNAME:EDT
DTSTART:20250309T070000
END:DAYLIGHT
BEGIN:STANDARD
TZOFFSETFROM:-0400
TZOFFSETTO:-0500
TZNAME:EST
DTSTART:20251102T060000
END:STANDARD
BEGIN:DAYLIGHT
TZOFFSETFROM:-0500
TZOFFSETTO:-0400
TZNAME:EDT
DTSTART:20260308T070000
END:DAYLIGHT
BEGIN:STANDARD
TZOFFSETFROM:-0400
TZOFFSETTO:-0500
TZNAME:EST
DTSTART:20261101T060000
END:STANDARD
BEGIN:DAYLIGHT
TZOFFSETFROM:-0500
TZOFFSETTO:-0400
TZNAME:EDT
DTSTART:20270314T070000
END:DAYLIGHT
BEGIN:STANDARD
TZOFFSETFROM:-0400
TZOFFSETTO:-0500
TZNAME:EST
DTSTART:20271107T060000
END:STANDARD
BEGIN:DAYLIGHT
TZOFFSETFROM:-0500
TZOFFSETTO:-0400
TZNAME:EDT
DTSTART:20280312T070000
END:DAYLIGHT
BEGIN:STANDARD
TZOFFSETFROM:-0400
TZOFFSETTO:-0500
TZNAME:EST
DTSTART:20281105T060000
END:STANDARD
END:VTIMEZONE
BEGIN:VEVENT
DTSTART;VALUE=DATE:20261006
DTEND;VALUE=DATE:20261009
DTSTAMP:20260421T075044
CREATED:20260304T161611Z
LAST-MODIFIED:20260402T162159Z
UID:90417-1791244800-1791503999@www.glc.org
SUMMARY:2026 Great Lakes Commission Annual Meeting
DESCRIPTION:Please plan to join us for the 2026 Great Lakes Commission Annual Meeting\, to be held in Toronto\, Ontario\, October 6-8.  For registration\, details\, and the most up-to-date information\, please visit the meeting web page. \nMeeting web page: https://www.glc.org/meetings/annual
URL:https://www.glc.org/event/2026-great-lakes-commission-annual-meeting/
LOCATION:Toronto\, ON
CATEGORIES:GLC,Great Lakes Calendar
END:VEVENT
BEGIN:VEVENT
DTSTART;VALUE=DATE:20261007
DTEND;VALUE=DATE:20261009
DTSTAMP:20260421T075044
CREATED:20260416T190549Z
LAST-MODIFIED:20260416T190650Z
UID:91249-1791331200-1791503999@www.glc.org
SUMMARY:2026 Great Lakes Microplastics Summit
DESCRIPTION:The Michigan Department of Environment\, Great Lakes\, and Energy (EGLE) invites you to the 2026 Great Lakes Microplastics Summit\, which is taking place October 7-8\, 2026\, as a virtual event. The summit audience includes scientists\, professionals\, policymakers\, and community members exploring the growing impact of microplastics on our freshwater systems. \nEvent website: https://egle.idloom.events/2026-Microplastics-Summit\nContact: egle-events@michigan.gov 
URL:https://www.glc.org/event/2026-10-great-lakes-microplastics-summit/
LOCATION:Online
CATEGORIES:Great Lakes Calendar
END:VEVENT
BEGIN:VEVENT
DTSTART;VALUE=DATE:20261026
DTEND;VALUE=DATE:20261029
DTSTAMP:20260421T075044
CREATED:20260303T195939Z
LAST-MODIFIED:20260303T200057Z
UID:90383-1792972800-1793231999@www.glc.org
SUMMARY:Great Lakes Coastal Symposium
DESCRIPTION:The Great Lakes Coastal Assembly is partnering with Old Woman Creek National Estuarine Research Reserve and Audubon Great Lakes to host the fourth Great Lakes Coastal Symposium (Symposium). The Symposium will feature plenary\, invited\, and submitted presentations\, networking opportunities\, workshops\, and field trips for conservation practitioners\, scientists\, students\, coastal wetland stakeholders\, and community members. \nEvent website: https://www.greatlakescoastalassembly.org/symposium.html\nContact: Liz Berg\nCoastal Program Biologist\nUSFWS\nelizabeth_berg@fws.gov 
URL:https://www.glc.org/event/2026-10-great-lakes-coastal-symposium/
LOCATION:Huron\, OH
CATEGORIES:Great Lakes Calendar
END:VEVENT
BEGIN:VEVENT
DTSTART;VALUE=DATE:20261027
DTEND;VALUE=DATE:20261031
DTSTAMP:20260421T075044
CREATED:20260304T171411Z
LAST-MODIFIED:20260304T171442Z
UID:90445-1793059200-1793404799@www.glc.org
SUMMARY:National Beach Summit
DESCRIPTION:So much has changed since the last in person National Beach Summit took place 10 years ago in New Orleans. The 2026 event will feature field trips\, MST workshop\, 2 1/2 days of plenary content\, student poster contest\, and more!  A virtual option will be available for the plenary content. \nThe Summit will bring together researchers\, beach managers and owners\, and local\, state\, federal\, provincial\, and tribal governments to explore how new technology is transforming beach monitoring and the way results are shared with the public. We will also look at long term strategies to improve beaches such as stormwater management\, remediation designs\, citizen science\, and communication coordination. \nEvent website: https://egle.idloom.events/national-beach-summit\nContact: egle-events@michigan.gov 
URL:https://www.glc.org/event/2026-10-national-beach-summit/
LOCATION:Traverse City\, MI
CATEGORIES:Great Lakes Calendar
END:VEVENT
BEGIN:VEVENT
DTSTART;VALUE=DATE:20261102
DTEND;VALUE=DATE:20261107
DTSTAMP:20260421T075044
CREATED:20260303T204258Z
LAST-MODIFIED:20260303T204624Z
UID:90398-1793577600-1794009599@www.glc.org
SUMMARY:NALMS 2026 Annual Symposium
DESCRIPTION:The North American Lake Management Society (NALMS) is pleased to return to Canada\, after ten years\, for NALMS 2026! The program will feature the numerous topics\, workshops\, field trips\, presentations\, networking events\, and vendor displays. \nEvent website: https://www.nalms.org/nalms2026/\nContact: NALMS: 608-233-2836
URL:https://www.glc.org/event/2026-11-nalms-2026-annual-symposium/
LOCATION:Kelowna\, BC
CATEGORIES:Great Lakes Calendar
END:VEVENT
BEGIN:VEVENT
DTSTART;VALUE=DATE:20270524
DTEND;VALUE=DATE:20270529
DTSTAMP:20260421T075044
CREATED:20260303T204949Z
LAST-MODIFIED:20260303T204949Z
UID:90402-1811116800-1811548799@www.glc.org
SUMMARY:IAGLR’s 70th Annual Conference on Great Lakes Research
DESCRIPTION:Save the date for the IAGLR’s 70th Annual Conference on Great Lakes Research: May 24-28\, 2027\, in Duluth\, Minnesota. Visit the website for details as the event date approaches. \nEvent website: https://iaglr.org/conferences/\nContact: office@iaglr.org
URL:https://www.glc.org/event/iaglrs-70th-annual-conference-on-great-lakes-research/
LOCATION:Duluth\, MN
CATEGORIES:Great Lakes Calendar
ORGANIZER;CN="International Association for Great Lakes Research":MAILTO:office@iaglr.org
END:VEVENT
END:VCALENDAR